BEGIN:VCALENDAR
VERSION:2.0
PRODID:-//wp-events-plugin.com//7.2.2.1//EN
TZID:Europe/Amsterdam
X-WR-TIMEZONE:Europe/Amsterdam
BEGIN:VEVENT
UID:311@bmi-online.nl
DTSTART;TZID=Europe/London:20221004T090000
DTEND;TZID=Europe/London:20221004T120000
DTSTAMP:20220728T084318Z
URL:https://www.bmi-online.nl/events/advanced-searching-for-systematic-rev
 iews-hta-and-guideline-development-techniques-and-resources-online/
SUMMARY:Advanced Searching for Systematic Reviews\, HTA and Guideline Devel
 opment: Techniques and Resources (online)
DESCRIPTION:Extensive searching is the foundation of high quality systemati
 c reviews\, health technology assessment (HTA)\, guideline development and
  other major projects.  Conducting searches to retrieve research evidence
  from databases and other resources requires a range of knowledge and skil
 ls.  There are constant challenges to keeping up-to-date with new databas
 e features and approaches to achieving efficient searches.  Search approa
 ches may need to be adapted depending on the end-product which the search 
 is informing and the resources available.  Search approaches increasingly
  need to be explained to sponsors and other end-users in terms of the exte
 nt to which they are fit-for-purpose.\n\nThis workshop will provide opport
 unities to learn new techniques for search term identification and search 
 structuring\, to learn about peer review\, to learn about search tips and 
 pitfalls\, as well as key databases other than MEDLINE (the Cochrane Libra
 ry and Embase) and other resources and search guidance.  There will be ti
 me to discuss best approaches\, ask questions and to share insights.\n\nSe
 ssion 1 - 04 October (9am to 12pm) Session 2 - 06 October (9am to 12pm)\n\
 nMeer informatie.
CATEGORIES:Cursus,Cursussen en congressen
LOCATION:Online - zie evenement voor meer informatie\, online\, online\, Ne
 derland
X-APPLE-STRUCTURED-LOCATION;VALUE=URI;X-ADDRESS=online\, online\, Nederland
 ;X-APPLE-RADIUS=100;X-TITLE=Online - zie evenement voor meer informatie:ge
 o:0,0
END:VEVENT
BEGIN:VTIMEZONE
TZID:Europe/London
X-LIC-LOCATION:Europe/London
BEGIN:DAYLIGHT
DTSTART:20220327T020000
TZOFFSETFROM:+0000
TZOFFSETTO:+0100
TZNAME:BST
END:DAYLIGHT
END:VTIMEZONE
END:VCALENDAR