BEGIN:VCALENDAR
VERSION:2.0
PRODID:-//wp-events-plugin.com//7.2.2.1//EN
TZID:Europe/Amsterdam
X-WR-TIMEZONE:Europe/Amsterdam
BEGIN:VEVENT
UID:305@bmi-online.nl
DTSTART:20220614T200000Z
DTEND:20220614T213000Z
DTSTAMP:20220610T100343Z
URL:https://www.bmi-online.nl/events/an-essential-introduction-to-retracti
 ons-and-evaluating-research-quality-online/
SUMMARY:An Essential Introduction to Retractions and Evaluating Research Qu
 ality (online)
DESCRIPTION:Health care providers\, researchers\, and scholars depend on a 
 trustworthy scientific knowledge base. Article retraction rates are incre
 asing. . . and so is their impact on the scientific knowledge base and hea
 lth care practice.\n\nHealth science librarians have a vital role to play 
 in identifying\, and educating patrons in identifying\, trustworthy resear
 ch. If you work with scholarly literature\, this webinar is essential.\n\n
 You’ll gain an understanding of what a retraction means\, how publicatio
 ns are retracted\, and how to identify publications as being retracted. Yo
 u’ll also learn how to use the REAPPRAISED checklist\, a vital tool for 
 evaluating the integrity of a publication. It will enable you to identify 
 low-quality research\, even if it’s not retracted.\n\nYou will be able t
 o apply your learning from this webinar to many aspects of health science 
 librarianship\, from working on systematic reviews and meta-analyses to ev
 idence-based medicine education and personal scholarship. The webinar may 
 also inspire you to reach out to your institution’s research integrity o
 ffice to find ways to partner and share this information.\n\nMore informat
 ion.
CATEGORIES:Cursussen en congressen
END:VEVENT
END:VCALENDAR