BEGIN:VCALENDAR
VERSION:2.0
PRODID:-//wp-events-plugin.com//7.2.2.1//EN
TZID:Europe/Amsterdam
X-WR-TIMEZONE:Europe/Amsterdam
BEGIN:VEVENT
UID:286@bmi-online.nl
DTSTART:20221007T090000Z
DTEND:20221007T153000Z
DTSTAMP:20220407T092425Z
URL:https://www.bmi-online.nl/events/auteursrecht-voor-informatiespecialis
 ten-basis-utrecht-4/
SUMMARY:Auteursrecht voor informatiespecialisten (Basis) (Utrecht)
DESCRIPTION:1-daagse cursus waarin alle aspecten van de auteurswet\, die va
 n belang zijn voor Informatiespecialisten aan de orde komen.\n\nHet gebrui
 k van digitale content roept vaak vragen op. Veel materiaal is auteursrech
 telijk beschermd en mag niet zonder meer worden aangeboden. Als u op de ho
 ogte bent van het auteursrecht\, kunt u verantwoord omgaan met auteursrech
 telijk beschermd werk. (GO)\n\nMeer informatie.
CATEGORIES:Cursussen en congressen,Webinar
END:VEVENT
END:VCALENDAR