BEGIN:VCALENDAR
VERSION:2.0
PRODID:-//wp-events-plugin.com//7.2.2.1//EN
TZID:Europe/Amsterdam
X-WR-TIMEZONE:Europe/Amsterdam
BEGIN:VEVENT
UID:284@bmi-online.nl
DTSTART:20221104T090000Z
DTEND:20221104T153000Z
DTSTAMP:20220407T092257Z
URL:https://www.bmi-online.nl/events/auteursrecht-voor-informatiespecialis
 ten-vervolg-online-2/
SUMMARY:Auteursrecht voor informatiespecialisten (Vervolg) (Online)
DESCRIPTION:1-daagse verdiepingscursus waarin alle aspecten van de auteursw
 et\, die van belang zijn voor Informatiespecialisten\, aan de orde komen. 
 (GO)\n\nMeer informatie.
CATEGORIES:Cursussen en congressen,Webinar
END:VEVENT
END:VCALENDAR