BEGIN:VCALENDAR
VERSION:2.0
PRODID:-//wp-events-plugin.com//7.2.2.1//EN
TZID:Europe/Amsterdam
X-WR-TIMEZONE:Europe/Amsterdam
BEGIN:VEVENT
UID:283@bmi-online.nl
DTSTART:20220624T090000Z
DTEND:20220624T153000Z
DTSTAMP:20220407T092233Z
URL:https://www.bmi-online.nl/events/auteursrecht-voor-informatiespecialis
 ten-vervolg-utrecht-2/
SUMMARY:Auteursrecht voor informatiespecialisten (Vervolg) (Utrecht)
DESCRIPTION:1-daagse verdiepingscursus waarin alle aspecten van de auteursw
 et\, die van belang zijn voor Informatiespecialisten\, aan de orde komen. 
 (GO)\n\nMeer informatie.
CATEGORIES:Cursussen en congressen,Webinar
END:VEVENT
END:VCALENDAR