BEGIN:VCALENDAR
VERSION:2.0
PRODID:-//wp-events-plugin.com//7.2.2.1//EN
TZID:Europe/Amsterdam
X-WR-TIMEZONE:Europe/Amsterdam
BEGIN:VEVENT
UID:459@bmi-online.nl
DTSTART;TZID=Europe/Amsterdam:20230511T101500
DTEND;TZID=Europe/Amsterdam:20230511T160000
DTSTAMP:20230510T044809Z
URL:https://www.bmi-online.nl/events/bmi-dag/
SUMMARY:BMI-dag (Geleen)
DESCRIPTION:\n\n\nTijdens deze BMI dag wordt ook de Algemene Ledenvergaderi
 ng gehouden. Deze is ook online te volgen.\n\nIn de middag zijn er de volg
 ende sprekers: Harrie van der Meer over Open leermaterialen en de werkgroe
 p Competentieprofielen.\n\n\n\n\nProgramma van BMI dag\n\n\n&nbsp\;\n\n\n\
 nOp donderdag 11 mei:\n\n\n10:15 - 10:45\nInloop\n\n\n10:45 - 12:00\nAlgem
 ene Ledenvergadering\n\n\n12:00 - 12:30\nLunch\n\n\n12:30 - 13:00\nKennis-
  &amp\; InformatieCentrum (KIC) bezichtigen\n\n\n13:00 - 14:00\nOpen leerm
 aterialen\n\n\n14:00 - 15:00\nWerkgroep Competentieprofielen\n\n\n15:00 - 
 16:00\nNetwerkmoment\n\n\n\n\n\nPlaats van handeling is:\nZuyderland Medis
 ch Centrum\, Sittard-Geleen\nDr. H. van der Hoffplein 1\n6162 BG GELEEN\n\
 nMeer informatie.
CATEGORIES:BMI-event
END:VEVENT
BEGIN:VTIMEZONE
TZID:Europe/Amsterdam
X-LIC-LOCATION:Europe/Amsterdam
BEGIN:DAYLIGHT
DTSTART:20230326T030000
TZOFFSETFROM:+0100
TZOFFSETTO:+0200
TZNAME:CEST
END:DAYLIGHT
END:VTIMEZONE
END:VCALENDAR