BEGIN:VCALENDAR
VERSION:2.0
PRODID:-//wp-events-plugin.com//7.2.2.1//EN
TZID:Europe/Amsterdam
X-WR-TIMEZONE:Europe/Amsterdam
BEGIN:VEVENT
UID:312@bmi-online.nl
DTSTART;TZID=Europe/London:20220928T150000
DTEND;TZID=Europe/London:20220928T173000
DTSTAMP:20220728T084844Z
URL:https://www.bmi-online.nl/events/citation-analysis-discovering-new-use
 s-within-systematic-reviews-online-2/
SUMMARY:Citation Analysis – Discovering New Uses Within Systematic Review
 s (online)
DESCRIPTION:Citation analysis tools have been available for decades and alr
 eady have a role within systematic reviews.  However\, with the introduct
 ion of new tools and more access to citation indexes\, citation analysis m
 ay offer new opportunities for assisting with systematic reviews\, particu
 larly reviews of complex questions where searchers may not always be confi
 dent that their subject searches are exhaustive.\n\nThis online workshop w
 ill describe some of the new citation analysis tools as well as new uses o
 f citation analysis tools\, from the perspective of identifying research f
 or systematic reviews.\n\nSession 1 - 28 September (3pm to 5.30pm) Session
  2 - 05 October (3pm to 5.30pm)\n\nMeer informatie.
CATEGORIES:Cursus,Cursussen en congressen,Webinar
LOCATION:Online - zie evenement voor meer informatie\, online\, online\, Ne
 derland
X-APPLE-STRUCTURED-LOCATION;VALUE=URI;X-ADDRESS=online\, online\, Nederland
 ;X-APPLE-RADIUS=100;X-TITLE=Online - zie evenement voor meer informatie:ge
 o:0,0
END:VEVENT
BEGIN:VTIMEZONE
TZID:Europe/London
X-LIC-LOCATION:Europe/London
BEGIN:DAYLIGHT
DTSTART:20220327T020000
TZOFFSETFROM:+0000
TZOFFSETTO:+0100
TZNAME:BST
END:DAYLIGHT
END:VTIMEZONE
END:VCALENDAR