BEGIN:VCALENDAR
VERSION:2.0
PRODID:-//wp-events-plugin.com//7.2.2.1//EN
TZID:Europe/Amsterdam
X-WR-TIMEZONE:Europe/Amsterdam
BEGIN:VEVENT
UID:300@bmi-online.nl
DTSTART;TZID=America/Chicago:20220811T130000
DTEND;TZID=America/Chicago:20220811T143000
DTSTAMP:20220520T140825Z
URL:https://www.bmi-online.nl/events/citation-management-for-systematic-re
 views-online/
SUMMARY:Citation Management for Systematic Reviews (online)
DESCRIPTION:Whether you are new to citation management software or have use
 d or taught it to manage paper citations\, systematic review citation mana
 gement software will present you with unique challenges. Andy Hickner and 
 Kathryn Vanderboll\, multi-platform citation software users and collaborat
 ors on many reviews\, will show you how to address the challenges of using
  the software on systematic reviews.\nYou’ll learn the pros and cons of 
 a variety of free and subscription sofatware and how to address common cha
 llenges\, including:\n\n\n 	Managing large numbers of citations with many 
 duplicates\n 	Using software with diverse teams\n 	Exporting database resu
 lts\n 	Exporting to and from systematic review software \n 	Screening pro
 cess considerations\n 	Locating full texts\n 	Documenting your process in 
 order to satisfy PRISMA and other reporting requirements.\n\nMore informat
 ion.
CATEGORIES:Cursussen en congressen,Webinar
END:VEVENT
BEGIN:VTIMEZONE
TZID:America/Chicago
X-LIC-LOCATION:America/Chicago
BEGIN:DAYLIGHT
DTSTART:20220313T030000
TZOFFSETFROM:-0600
TZOFFSETTO:-0500
TZNAME:CDT
END:DAYLIGHT
END:VTIMEZONE
END:VCALENDAR