BEGIN:VCALENDAR
VERSION:2.0
PRODID:-//wp-events-plugin.com//7.2.2.1//EN
TZID:Europe/Amsterdam
X-WR-TIMEZONE:Europe/Amsterdam
BEGIN:VEVENT
UID:258@bmi-online.nl
DTSTART:20220222T190000Z
DTEND:20220222T203000Z
DTSTAMP:20220121T123423Z
URL:https://www.bmi-online.nl/events/clean-tidy-data-making-data-usable-on
 line/
SUMMARY:Clean & Tidy Data: Making Data Usable (Online)
DESCRIPTION:Clean datasets have similar properties and look the same\, whil
 e "dirty" datasets are messy in their own ways. Knowing what clean data lo
 oks like and how to clean data is an important skill in assisting research
 ers in making their data FAIR ( findable\, accessible\, interoperable\, an
 d reusable).\n\nIn this webinar\, you will learn to identify the component
 s of a clean and tidy dataset and describe the steps needed to process a "
 dirty" dataset. With these components identified\, you will be able to tid
 y your own data and provide guidance to researchers.\n\nYou’ll see\, in 
 action\, common data issues solved by carrying out data transformation and
  pivoting operations. You’ll also learn the steps needed to break down o
 bservational units into separate tables (“normalize” data) so they can
  be efficiently stored in databases.\n\nMore information.
CATEGORIES:Cursussen en congressen,Webinar
END:VEVENT
END:VCALENDAR