BEGIN:VCALENDAR
VERSION:2.0
PRODID:-//wp-events-plugin.com//7.2.2.1//EN
TZID:Europe/Amsterdam
X-WR-TIMEZONE:Europe/Amsterdam
BEGIN:VEVENT
UID:250@bmi-online.nl
DTSTART;TZID=Europe/Amsterdam:20220914T100000
DTEND;TZID=Europe/Amsterdam:20220914T163000
DTSTAMP:20220407T092052Z
URL:https://www.bmi-online.nl/events/data-architectuur-en-datamanagement-2
 /
SUMMARY:Data-architectuur en datamanagement (Utrecht)
DESCRIPTION:5-daagse cursus die u kennis\, inzicht en vaardigheden geeft om
  gestructureerd de data binnen uw organisatie optimaal in te zetten ter ve
 rbetering van de bedrijfsvoering.\n\nCorrecte\, tijdige en complete data e
 n informatie vormen de slagader voor efficiënte bedrijfsvoering en beslui
 tvorming in iedere organisatie. Met een data-architectuur\, inclusief rege
 ls\, modellen en standaarden\, heeft een organisatie een krachtig hulpmidd
 el om te zorgen dat de gegevens in IT- systemen voldoen aan de opgestelde 
 normen. Hierdoor kan gegevensuitwisseling veel efficiënter en goedkoper p
 laatsvinden. (GO)\n\nMeer informatie.
CATEGORIES:Cursus,Cursussen en congressen
END:VEVENT
BEGIN:VTIMEZONE
TZID:Europe/Amsterdam
X-LIC-LOCATION:Europe/Amsterdam
BEGIN:DAYLIGHT
DTSTART:20220327T030000
TZOFFSETFROM:+0100
TZOFFSETTO:+0200
TZNAME:CEST
END:DAYLIGHT
END:VTIMEZONE
END:VCALENDAR