BEGIN:VCALENDAR
VERSION:2.0
PRODID:-//wp-events-plugin.com//7.2.2.1//EN
TZID:Europe/Amsterdam
X-WR-TIMEZONE:Europe/Amsterdam
BEGIN:VEVENT
UID:253@bmi-online.nl
DTSTART:20220311T090000Z
DTEND:20220311T120000Z
DTSTAMP:20220121T122004Z
URL:https://www.bmi-online.nl/events/data-visualisatie-online-2/
SUMMARY:Data Visualisatie (online)
DESCRIPTION:Workshop van 1 dagdeel waarin u inzichten opdoet in wat belangr
 ijk is voor het maken van een goede data-visualisatie.\n\nMeer informatie.
CATEGORIES:Cursussen en congressen,Workshop
END:VEVENT
END:VCALENDAR