BEGIN:VCALENDAR
VERSION:2.0
PRODID:-//wp-events-plugin.com//7.2.2.1//EN
TZID:Europe/Amsterdam
X-WR-TIMEZONE:Europe/Amsterdam
BEGIN:VEVENT
UID:271@bmi-online.nl
DTSTART;TZID=Europe/Amsterdam:20221116T100000
DTEND;TZID=Europe/Amsterdam:20221116T130000
DTSTAMP:20220421T155012Z
URL:https://www.bmi-online.nl/events/data-visualisatie-online-3/
SUMMARY:Data Visualisatie (online)
DESCRIPTION:Het vinden van patronen in data is de tak van sport voor data-a
 nalisten en data scientists. De gevonden resultaten moeten gepresenteerd w
 orden aan stakeholders\, en dat is vaak makkelijker gezegd dan gedaan. Hoe
  kun je ingewikkelde resultaten vertalen naar stakeholders met een minder 
 technisch achtergrond? “A picture says more than a thousand words” gel
 dt ook voor data! Een goede data-visualisatie maakt het vertalen van resul
 taten makkelijker. Daarnaast kunnen visualisaties een goed startpunt zijn 
 om uw data beter te leren kennen. In deze workshop leert u wat een goede d
 ata-visualisatie is en hoe u deze toe kan passen.` (GO)\n\nMeer informatie
 .
CATEGORIES:Cursussen en congressen,Workshop
END:VEVENT
BEGIN:VTIMEZONE
TZID:Europe/Amsterdam
X-LIC-LOCATION:Europe/Amsterdam
BEGIN:STANDARD
DTSTART:20221030T020000
TZOFFSETFROM:+0200
TZOFFSETTO:+0100
TZNAME:CET
END:STANDARD
END:VTIMEZONE
END:VCALENDAR