BEGIN:VCALENDAR
VERSION:2.0
PRODID:-//wp-events-plugin.com//7.2.2.1//EN
TZID:Europe/Amsterdam
X-WR-TIMEZONE:Europe/Amsterdam
BEGIN:VEVENT
UID:268@bmi-online.nl
DTSTART;TZID=Europe/Amsterdam:20221007T100000
DTEND;TZID=Europe/Amsterdam:20221007T163000
DTSTAMP:20220303T150131Z
URL:https://www.bmi-online.nl/events/de-nieuwe-rda-online-3/
SUMMARY:De nieuwe RDA (online)
DESCRIPTION:2-daagse cursus (online) waarin u inzicht krijgt in de nieuwe v
 ersie van de catalogiseerstandaard RDA.\n\nNa jaren van voorbereiding is o
 p 15 december 2020 een geheel vernieuwde versie van de metadatastandaard R
 DA (Resource Description and Access) van kracht geworden. De standaard slu
 it nu volledig aan bij uitgangspunten en werkwijzen die gangbaar zijn voor
  linked data. Hoewel de oorspronkelijke RDA Toolkit uit 2010 nog enige tij
 d beschikbaar blijft voor gebruik bij het titelbeschrijven\, adviseert de 
 RSC (RDA Steering Committee) gebruikers van de standaard zich nu alvast te
  verdiepen in de nieuwe RDA ter voorbereiding op de overstap naar de nieuw
 e versie.\n\nDeze cursus behandelt zowel de belangrijkste inhoudelijke wij
 zigingen in de standaard als de vernieuwde Toolkit.\nLesdagen:\n\n07 oktob
 er 2022\n\n\n14 oktober 2022\n\n\nMeer informatie.
CATEGORIES:Cursus,Cursussen en congressen
END:VEVENT
BEGIN:VTIMEZONE
TZID:Europe/Amsterdam
X-LIC-LOCATION:Europe/Amsterdam
BEGIN:DAYLIGHT
DTSTART:20220327T030000
TZOFFSETFROM:+0100
TZOFFSETTO:+0200
TZNAME:CEST
END:DAYLIGHT
END:VTIMEZONE
END:VCALENDAR