BEGIN:VCALENDAR
VERSION:2.0
PRODID:-//wp-events-plugin.com//7.2.2.1//EN
TZID:Europe/Amsterdam
X-WR-TIMEZONE:Europe/Amsterdam
BEGIN:VEVENT
UID:191@bmi-online.nl
DTSTART:20220525T090000Z
DTEND:20220525T153000Z
DTSTAMP:20220421T154150Z
URL:https://www.bmi-online.nl/events/digitale-informatievaardigheden-onlin
 e-2/
SUMMARY:Digitale Informatievaardigheden (Utrecht)
DESCRIPTION:1-daagse cursus waarmee u uw kennis\, technieken en methoden ro
 nd het thema (digitale) informatievaardigheden opfrist en/of uitbreidt. (G
 O)\n\nMeer informatie.
CATEGORIES:Cursus,Cursussen en congressen
END:VEVENT
END:VCALENDAR