BEGIN:VCALENDAR
VERSION:2.0
PRODID:-//wp-events-plugin.com//7.2.2.1//EN
TZID:Europe/Amsterdam
X-WR-TIMEZONE:Europe/Amsterdam
BEGIN:VEVENT
UID:190@bmi-online.nl
DTSTART:20211110T090000Z
DTEND:20211110T153000Z
DTSTAMP:20211006T102929Z
URL:https://www.bmi-online.nl/events/digitale-informatievaardigheden-utrec
 ht/
SUMMARY:Digitale Informatievaardigheden (Utrecht)
DESCRIPTION:1-daagse cursus waarmee u uw kennis\, technieken en methoden ro
 nd het thema (digitale) informatievaardigheden opfrist en/of uitbreidt.\n\
 nMeer informatie.
CATEGORIES:Cursus,Cursussen en congressen
END:VEVENT
END:VCALENDAR