BEGIN:VCALENDAR
VERSION:2.0
PRODID:-//wp-events-plugin.com//7.2.2.1//EN
TZID:Europe/Amsterdam
X-WR-TIMEZONE:Europe/Amsterdam
BEGIN:VEVENT
UID:291@bmi-online.nl
DTSTART:20220727T190000Z
DTEND:20220727T203000Z
DTSTAMP:20220407T095100Z
URL:https://www.bmi-online.nl/events/easy-steps-to-building-a-team-based-s
 ystematic-review-service/
SUMMARY:Easy Steps to Building a Team-Based Systematic Review Service
DESCRIPTION:It takes a team of librarians and the right service model to pr
 ovide a high quality systematic review service. In this webinar\, you’ll
  learn how you can use a flexible systematic review service toolkit to cre
 ate or upgrade a systematic review service based on your resources and res
 earcher needs.\n\nYou’ll learn how to build your team\, identify the rev
 iew types and scope of review and education services you’ll offer\, inte
 rview researchers to determine their knowledge gaps and needs\, and design
  courses and training for researchers based on a comprehensive set of lear
 ning outcomes. Librarians at all levels can use the training resources to 
 assess their skills to find their role on a team. You can use the material
 s to train staff.\n\nYou’ll leave with access to all the tools and mater
 ials presented in the webinar\, so you can start to build a successful tea
 m-based systematic review service for your institution.\n\nMore informatio
 n.
CATEGORIES:Cursussen en congressen,Webinar
END:VEVENT
END:VCALENDAR