BEGIN:VCALENDAR
VERSION:2.0
PRODID:-//wp-events-plugin.com//7.2.2.1//EN
TZID:Europe/Amsterdam
X-WR-TIMEZONE:Europe/Amsterdam
BEGIN:VEVENT
UID:332@bmi-online.nl
DTSTART;TZID=Europe/Amsterdam:20230120T100000
DTEND;TZID=Europe/Amsterdam:20230120T163000
DTSTAMP:20221123T170228Z
URL:https://www.bmi-online.nl/events/embedded-librarian-utrecht-2/
SUMMARY:Embedded librarian (Utrecht)
DESCRIPTION:3-daagse cursus over de verschillende aspecten van embedded lib
 rarianship en de toepasbaarheid van dit concept in kennisintensieve organi
 saties.\n\nEmbedded librarian\, die term komt steeds vaker voor. Wat is he
 t precies en hoe past u het toe in de praktijk? Vooral universiteiten en h
 ogescholen - waar het ook wel Faculty Liaison wordt genoemd - hebben baat 
 bij deze manier van werken\, maar ook voor bedrijven\, onderzoeksinstitute
 n\, zorginstellingen en de medische sector is dit interessant. (GO)\n\nLes
 dagen:\n20 januari 2023\n03 februari 2023\n17 februari 2023\n\nMeer inform
 atie.
CATEGORIES:Cursus,Cursussen en congressen
END:VEVENT
BEGIN:VTIMEZONE
TZID:Europe/Amsterdam
X-LIC-LOCATION:Europe/Amsterdam
BEGIN:STANDARD
DTSTART:20221030T020000
TZOFFSETFROM:+0200
TZOFFSETTO:+0100
TZNAME:CET
END:STANDARD
END:VTIMEZONE
END:VCALENDAR