BEGIN:VCALENDAR
VERSION:2.0
PRODID:-//wp-events-plugin.com//7.2.2.1//EN
TZID:Europe/Amsterdam
X-WR-TIMEZONE:Europe/Amsterdam
BEGIN:VEVENT
UID:267@bmi-online.nl
DTSTART;TZID=Europe/Amsterdam:20220513T100000
DTEND;TZID=Europe/Amsterdam:20220513T163000
DTSTAMP:20220421T154349Z
URL:https://www.bmi-online.nl/events/embedded-librarian-utrecht/
SUMMARY:Embedded librarian (Utrecht)
DESCRIPTION:3-daagse cursus over de verschillende aspecten van embedded lib
 rarianship en de toepasbaarheid van dit concept in kennisintensieve organi
 saties.\n\nEmbedded librarian\, die term komt steeds vaker voor. Wat is he
 t precies en hoe past u het toe in de praktijk? Vooral universiteiten en h
 ogescholen - waar het ook wel Faculty Liaison wordt genoemd - hebben baat 
 bij deze manier van werken\, maar ook voor bedrijven\, onderzoeksinstitute
 n\, zorginstellingen en de medische sector is dit interessant. (GO)\n\nLes
 dagen:\n\n13 mei 2022\n\n\n25 mei 2022\n\n\n08 juni 2022\n\n\nMeer informa
 tie.
CATEGORIES:Cursus,Cursussen en congressen
END:VEVENT
BEGIN:VTIMEZONE
TZID:Europe/Amsterdam
X-LIC-LOCATION:Europe/Amsterdam
BEGIN:DAYLIGHT
DTSTART:20220327T030000
TZOFFSETFROM:+0100
TZOFFSETTO:+0200
TZNAME:CEST
END:DAYLIGHT
END:VTIMEZONE
END:VCALENDAR