BEGIN:VCALENDAR
VERSION:2.0
PRODID:-//wp-events-plugin.com//7.2.2.1//EN
TZID:Europe/Amsterdam
X-WR-TIMEZONE:Europe/Amsterdam
BEGIN:VEVENT
UID:265@bmi-online.nl
DTSTART:20220223T140000Z
DTEND:20220223T140000Z
DTSTAMP:20220210T133147Z
URL:https://www.bmi-online.nl/events/evidence-based-searching-for-health-t
 echnology-assessment-keeping-up-to-date-with-sure-info-online/
SUMMARY:Evidence-Based Searching for Health Technology Assessment: Keeping 
 up to Date With SuRe Info (online)
DESCRIPTION:Do you undertake literature searches to inform systematic revie
 ws or health technology assessment? In the upcoming webinar Julie Glanvill
 e and Jaana Isojarvi will introduce Summarized Research in Information Ret
 rieval for HTA (SuRe Info) and talk about how it can help with issues rela
 ted to searching.\n\nThis free webinar is hosted by Health Technology Asse
 ssment international Information Retrieval Interest Group (IRG). Registrat
 ion is not needed\, just join us on 23 February at 2 pm GMT on YouTube: ht
 tps://www.youtube.com/c/HtaiOrg/videos\n\nWhile waiting for the webinar\, 
 why not take a look at SuRe Info at https://www.sure-info.org
CATEGORIES:Cursussen en congressen,Webinar
END:VEVENT
END:VCALENDAR