BEGIN:VCALENDAR
VERSION:2.0
PRODID:-//wp-events-plugin.com//7.2.2.1//EN
TZID:Europe/Amsterdam
X-WR-TIMEZONE:Europe/Amsterdam
BEGIN:VEVENT
UID:302@bmi-online.nl
DTSTART;TZID=America/Chicago:20220712T130000
DTEND;TZID=America/Chicago:20220811T143000
DTSTAMP:20220520T141634Z
URL:https://www.bmi-online.nl/events/getting-started-and-getting-confident
 -with-statistics-online/
SUMMARY:Getting Started and Getting Confident with Statistics (online)
DESCRIPTION:Does the term “p value” make you anxious? Do you have doubt
 s about your understanding of the statistics in the research articles you 
 read or work with? This confidence-building course will help you be more c
 omfortable with statistical concepts as you read research findings and int
 erpret data.\n\nThrough lecture\, discussion\, and examinations of library
  science research papers and interactive online exercises\, you’ll gain 
 an understanding of basic statistical concepts and be better able to inter
 pret conclusions of research articles.\n\nYou'll see how a research questi
 on rules the statistical analysis that should be used and be able to ident
 ify appropriate statistical tests to answer research questions. You’ll a
 ppreciate how the validity of statistical conclusions is dependent on the 
 quality of the data\, as much as on the analysis. And you’ll leave the c
 ourse with greater confidence in your ability to understand statistics!\n\
 n&nbsp\;\n\nLearning Outcomes\n\nBy the end of this course\, you will be a
 ble to:\n\n 	Explain the meaning of basic statistical terms\, such as stan
 dard deviation\, t test\, p value\n 	Describe the uses of basic statistica
 l procedures\n 	Interpret statistics used in published research studies\n 
 	Interpret the data\, formulas\, and graphs in research articles\n\nMore i
 nformation.
CATEGORIES:Cursussen en congressen,Webinar
END:VEVENT
BEGIN:VTIMEZONE
TZID:America/Chicago
X-LIC-LOCATION:America/Chicago
BEGIN:DAYLIGHT
DTSTART:20220313T030000
TZOFFSETFROM:-0600
TZOFFSETTO:-0500
TZNAME:CDT
END:DAYLIGHT
END:VTIMEZONE
END:VCALENDAR