BEGIN:VCALENDAR
VERSION:2.0
PRODID:-//wp-events-plugin.com//7.2.2.1//EN
TZID:Europe/Amsterdam
X-WR-TIMEZONE:Europe/Amsterdam
BEGIN:VEVENT
UID:308@bmi-online.nl
DTSTART;TZID=America/Chicago:20221101T130000
DTEND;TZID=America/Chicago:20221101T143000
DTSTAMP:20220728T083242Z
URL:https://www.bmi-online.nl/events/guiding-teams-through-risk-of-bias-to
 ols-in-systematic-reviews/
SUMMARY:Guiding Teams through Risk of Bias Tools in Systematic Reviews
DESCRIPTION:Librarians typically make their greatest contribution to system
 atic reviews in the comprehensive search part of the review process. Hendr
 en and Ledbetter\, who together have contributed to over 80 reviews\, will
  show you how you can add another skill to your review skillset: Providing
  guidance to teams and researchers on selecting and utilizing a risk of bi
 as tool.\n\nConducting a risk of bias assessment to identify design and ot
 her flaws and limitations in studies is an important step in the review pr
 ocess\, one filled with challenges for new and experienced teams. In this 
 webinar\, you’ll get an overview of what risk of bias is\, how assessing
  risk of bias differs from critical appraisal\, and why identifying bias i
 s so important to the review process. You’ll receive advice and guidance
  on supporting review teams through the risk of bias phase of the review p
 rocess and learn the points in the process where you can discuss the risk 
 of bias tools with teams.\n\nHendren and Ledbetter will share industry sta
 ndard methodological guidelines from Cochrane and other sources\, demonstr
 ate the Quality Assessment and Risk of Bias Tool Repository\, and show you
  common features among risk of bias tools. You’ll have an opportunity to
  practice locating tools and will learn of other repositories\, websites\,
  and guides you can use when advising teams.\n\nYou’ll leave with skills
  and knowledge that will help researchers follow best practices in choosin
 g and using risk of bias tools and help you develop new review methodology
  skills and advance in your career.\n\nMore information.
CATEGORIES:Cursussen en congressen,Webinar
END:VEVENT
BEGIN:VTIMEZONE
TZID:America/Chicago
X-LIC-LOCATION:America/Chicago
BEGIN:DAYLIGHT
DTSTART:20220313T030000
TZOFFSETFROM:-0600
TZOFFSETTO:-0500
TZNAME:CDT
END:DAYLIGHT
END:VTIMEZONE
END:VCALENDAR