BEGIN:VCALENDAR
VERSION:2.0
PRODID:-//wp-events-plugin.com//7.2.2.1//EN
TZID:Europe/Amsterdam
X-WR-TIMEZONE:Europe/Amsterdam
BEGIN:VEVENT
UID:330@bmi-online.nl
DTSTART;TZID=Europe/London:20221207T093000
DTEND;TZID=Europe/London:20221207T120000
DTSTAMP:20221123T162739Z
URL:https://www.bmi-online.nl/events/how-to-critically-appraise-research-o
 nline/
SUMMARY:How to Critically Appraise Research (online)
DESCRIPTION:This course will look at how to understand and appraise researc
 h articles. We will learn how to quickly read a paper and grasp its key fi
 ndings\, how to interpret and understand key data\, how to appraise a pape
 r’s methods and assess its usefulness and value. We will look at ‘inte
 rnal validity’ - how close the research has got to the ‘truth’\, and
  ‘external validity’ - can the research be usefully applied in our own
  work situation? Overall the course aims to help you become a better user 
 of research.\n\nMore information.
CATEGORIES:Cursus,Cursussen en congressen,Webinar
END:VEVENT
BEGIN:VTIMEZONE
TZID:Europe/London
X-LIC-LOCATION:Europe/London
BEGIN:STANDARD
DTSTART:20221030T010000
TZOFFSETFROM:+0100
TZOFFSETTO:+0000
TZNAME:GMT
END:STANDARD
END:VTIMEZONE
END:VCALENDAR