BEGIN:VCALENDAR
VERSION:2.0
PRODID:-//wp-events-plugin.com//7.2.2.1//EN
TZID:Europe/Amsterdam
X-WR-TIMEZONE:Europe/Amsterdam
BEGIN:VEVENT
UID:257@bmi-online.nl
DTSTART:20220420T090000Z
DTEND:20220420T153000Z
DTSTAMP:20220303T145607Z
URL:https://www.bmi-online.nl/events/internet-zoektechnieken-advanced-onli
 ne/
SUMMARY:Internet zoektechnieken (Advanced) (Online)
DESCRIPTION:1-daagse cursus over geavanceerder zoeken op internet.\n\n&nbsp
 \;\n\nMeer informatie.
CATEGORIES:Cursus,Cursussen en congressen
END:VEVENT
END:VCALENDAR