BEGIN:VCALENDAR
VERSION:2.0
PRODID:-//wp-events-plugin.com//7.2.2.1//EN
TZID:Europe/Amsterdam
X-WR-TIMEZONE:Europe/Amsterdam
BEGIN:VEVENT
UID:316@bmi-online.nl
DTSTART;TZID=Europe/Amsterdam:20221109T100000
DTEND;TZID=Europe/Amsterdam:20221109T163000
DTSTAMP:20220909T125232Z
URL:https://www.bmi-online.nl/events/internet-zoektechnieken-advanced-utre
 cht/
SUMMARY:Internet zoektechnieken (Advanced) (Utrecht)
DESCRIPTION:1-daagse cursus over geavanceerder zoeken op internet. (GO)\n\n
 &nbsp\;\n\nMeer informatie.
CATEGORIES:Cursus,Cursussen en congressen
END:VEVENT
BEGIN:VTIMEZONE
TZID:Europe/Amsterdam
X-LIC-LOCATION:Europe/Amsterdam
BEGIN:STANDARD
DTSTART:20221030T020000
TZOFFSETFROM:+0200
TZOFFSETTO:+0100
TZNAME:CET
END:STANDARD
END:VTIMEZONE
END:VCALENDAR