BEGIN:VCALENDAR
VERSION:2.0
PRODID:-//wp-events-plugin.com//7.2.2.1//EN
TZID:Europe/Amsterdam
X-WR-TIMEZONE:Europe/Amsterdam
BEGIN:VEVENT
UID:288@bmi-online.nl
DTSTART;TZID=Europe/Amsterdam:20230405T100000
DTEND;TZID=Europe/Amsterdam:20230405T163000
DTSTAMP:20220421T155252Z
URL:https://www.bmi-online.nl/events/internet-zoektechnieken-basis-online-
 3/
SUMMARY:Internet zoektechnieken (Basis) (online)
DESCRIPTION:05/04/20231-daagse cursus over efficiënter en effectiever info
 rmatie zoeken op internet via Google en andere (specialistische) zoekhulpm
 iddelen.\n\nZoeken op internet? Het lijkt allemaal zo gemakkelijk: even go
 ogelen en u vindt altijd wel relevante informatie. Toch is er vaak veel me
 er te vinden dan u denkt. Het zoeken naar en vinden van de gewenste inform
 atie is hierdoor een grotere uitdaging dan ooit tevoren. (GO)\n\nMeer info
 rmatie.
CATEGORIES:Cursus,Cursussen en congressen,Workshop
LOCATION:GO opleidingen\, Charlotte van Pallandtlaan 18\, Voorburg\, 2272 T
 R\, Nederland
GEO:52.0892113;4.3756673999999975
X-APPLE-STRUCTURED-LOCATION;VALUE=URI;X-ADDRESS=Charlotte van Pallandtlaan 
 18\, Voorburg\, 2272 TR\, Nederland;X-APPLE-RADIUS=100;X-TITLE=GO opleidin
 gen:geo:52.0892113,4.3756673999999975
END:VEVENT
BEGIN:VTIMEZONE
TZID:Europe/Amsterdam
X-LIC-LOCATION:Europe/Amsterdam
BEGIN:DAYLIGHT
DTSTART:20230326T030000
TZOFFSETFROM:+0100
TZOFFSETTO:+0200
TZNAME:CEST
END:DAYLIGHT
END:VTIMEZONE
END:VCALENDAR