BEGIN:VCALENDAR
VERSION:2.0
PRODID:-//wp-events-plugin.com//7.2.2.1//EN
TZID:Europe/Amsterdam
X-WR-TIMEZONE:Europe/Amsterdam
BEGIN:VEVENT
UID:256@bmi-online.nl
DTSTART;TZID=Europe/Amsterdam:20220302T100000
DTEND;TZID=Europe/Amsterdam:20220302T163000
DTSTAMP:20220121T122624Z
URL:https://www.bmi-online.nl/events/internet-zoektechnieken-basis-online/
SUMMARY:Internet zoektechnieken (Basis) (online)
DESCRIPTION:1-daagse cursus over efficiënter en effectiever informatie zoe
 ken op internet via Google en andere (specialistische) zoekhulpmiddelen.\n
 \nZoeken op internet? Het lijkt allemaal zo gemakkelijk: even googelen en
  u vindt altijd wel relevante informatie. Toch is er vaak veel meer te vin
 den dan u denkt. Het zoeken naar en vinden van de gewenste informatie is h
 ierdoor een grotere uitdaging dan ooit tevoren.\n\nMeer informatie.
CATEGORIES:Cursus,Cursussen en congressen,Workshop
LOCATION:GO opleidingen\, Charlotte van Pallandtlaan 18\, Voorburg\, 2272 T
 R\, Nederland
GEO:52.0892113;4.3756673999999975
X-APPLE-STRUCTURED-LOCATION;VALUE=URI;X-ADDRESS=Charlotte van Pallandtlaan 
 18\, Voorburg\, 2272 TR\, Nederland;X-APPLE-RADIUS=100;X-TITLE=GO opleidin
 gen:geo:52.0892113,4.3756673999999975
END:VEVENT
BEGIN:VTIMEZONE
TZID:Europe/Amsterdam
X-LIC-LOCATION:Europe/Amsterdam
BEGIN:STANDARD
DTSTART:20211031T020000
TZOFFSETFROM:+0200
TZOFFSETTO:+0100
TZNAME:CET
END:STANDARD
END:VTIMEZONE
END:VCALENDAR