BEGIN:VCALENDAR
VERSION:2.0
PRODID:-//wp-events-plugin.com//7.2.2.1//EN
TZID:Europe/Amsterdam
X-WR-TIMEZONE:Europe/Amsterdam
BEGIN:VEVENT
UID:251@bmi-online.nl
DTSTART:20220311T090000Z
DTEND:20220311T153000Z
DTSTAMP:20220121T121859Z
URL:https://www.bmi-online.nl/events/introductie-data-science-en-machine-l
 earning-online-2/
SUMMARY:Introductie Data Science en Machine Learning (online)
DESCRIPTION:1-daagse workshop waarin u kennis maakt met Data Science en Mac
 hine Learning algoritmen om in te kunnen zetten om uw organisatie meer dat
 a-gedreven te maken.\n\nMeer informatie.
CATEGORIES:Cursussen en congressen,Workshop
END:VEVENT
END:VCALENDAR