BEGIN:VCALENDAR
VERSION:2.0
PRODID:-//wp-events-plugin.com//7.2.2.1//EN
TZID:Europe/Amsterdam
X-WR-TIMEZONE:Europe/Amsterdam
BEGIN:VEVENT
UID:252@bmi-online.nl
DTSTART;TZID=Europe/Amsterdam:20221007T100000
DTEND;TZID=Europe/Amsterdam:20221007T163000
DTSTAMP:20220421T155119Z
URL:https://www.bmi-online.nl/events/introductie-data-science-en-machine-l
 earning-online-3/
SUMMARY:Introductie Data Science en Machine Learning (online)
DESCRIPTION:1-daagse workshop waarin u kennis maakt met Data Science en Mac
 hine Learning algoritmen om in te kunnen zetten om uw organisatie meer dat
 a-gedreven te maken. (GO)\n\nMeer informatie.
CATEGORIES:Cursussen en congressen,Workshop
END:VEVENT
BEGIN:VTIMEZONE
TZID:Europe/Amsterdam
X-LIC-LOCATION:Europe/Amsterdam
BEGIN:DAYLIGHT
DTSTART:20220327T030000
TZOFFSETFROM:+0100
TZOFFSETTO:+0200
TZNAME:CEST
END:DAYLIGHT
END:VTIMEZONE
END:VCALENDAR