BEGIN:VCALENDAR
VERSION:2.0
PRODID:-//wp-events-plugin.com//7.2.2.1//EN
TZID:Europe/Amsterdam
X-WR-TIMEZONE:Europe/Amsterdam
BEGIN:VEVENT
UID:261@bmi-online.nl
DTSTART;TZID=Europe/Amsterdam:20220318T100000
DTEND;TZID=Europe/Amsterdam:20220318T163000
DTSTAMP:20220203T145614Z
URL:https://www.bmi-online.nl/events/introductie-deep-learning-online-2/
SUMMARY:Introductie Deep Learning (online)
DESCRIPTION:1-daagse workshop waarin u kennis maakt met Deep Learning en wa
 t dit voor uw organisatie kan betekenen.\n\nBig data is ondertussen een re
 aliteit geworden voor veel bedrijven\, maar inzichten halen uit grote data
 stromen is niet altijd rechttoe-rechtaan. Één van de meest mysterieuze a
 nalyse-methoden is Deep Learning. Met Deep Learning worden neurale netwerk
 en opgebouwd die enorm flexibel zijn in wat ze kunnen leren\, en vooral kr
 achtig in het vinden van patroonherkenning. In de workshop maakt u kennis 
 met Deep Learning en doet u inzichten op hoe u neurale netwerken in uw org
 anisatie toe kan passen.\n\nMeer informatie.
CATEGORIES:Cursussen en congressen,Webinar
END:VEVENT
BEGIN:VTIMEZONE
TZID:Europe/Amsterdam
X-LIC-LOCATION:Europe/Amsterdam
BEGIN:STANDARD
DTSTART:20211031T020000
TZOFFSETFROM:+0200
TZOFFSETTO:+0100
TZNAME:CET
END:STANDARD
END:VTIMEZONE
END:VCALENDAR