BEGIN:VCALENDAR
VERSION:2.0
PRODID:-//wp-events-plugin.com//7.2.2.1//EN
TZID:Europe/Amsterdam
X-WR-TIMEZONE:Europe/Amsterdam
BEGIN:VEVENT
UID:255@bmi-online.nl
DTSTART:20221125T090000Z
DTEND:20221125T153000Z
DTSTAMP:20220421T155425Z
URL:https://www.bmi-online.nl/events/introductie-knowledge-graphs-utrecht-
 2/
SUMMARY:Introductie Knowledge Graphs (Utrecht)
DESCRIPTION:1-daagse introductie op Knowledge Graphs. Wat zijn het\, hoe zi
 jn ze opgebouwd en hoe kunt u ze inzetten in de eigen omgeving?\n\nHet gr
 ote publiek kent de knowledge graph van bekende commerciële projecten\, z
 oals de Google Knowledge Graph en de Facebook Graph. Maar een knowledge gr
 aph kan ook binnen een specifieke context zijn nut bewijzen. U kunt Knowle
 dge Graphs ook binnen een specifiek organisatiedomein inzetten. Zo brengt 
 u met  deze zogenaamde Enterprise Knowledge Graphs de informatiebehoefte 
 beter in beeld en maakt u informatie beter vindbaar op bijvoorbeeld een we
 bsite of intranet. (GO)\n\nMeer informatie.
CATEGORIES:Cursus,Cursussen en congressen
END:VEVENT
END:VCALENDAR