BEGIN:VCALENDAR
VERSION:2.0
PRODID:-//wp-events-plugin.com//7.2.2.1//EN
TZID:Europe/Amsterdam
X-WR-TIMEZONE:Europe/Amsterdam
BEGIN:VEVENT
UID:254@bmi-online.nl
DTSTART;TZID=Europe/Amsterdam:20220603T100000
DTEND;TZID=Europe/Amsterdam:20220603T163000
DTSTAMP:20220421T154008Z
URL:https://www.bmi-online.nl/events/introductie-marc21-utrecht/
SUMMARY:Introductie MARC21 (Utrecht)
DESCRIPTION:2-daagse cursus over de verschillende MARC 21-standaarden en hu
 n samenhang. (GO)\nMeer informatie.
CATEGORIES:Cursus,Cursussen en congressen
END:VEVENT
BEGIN:VTIMEZONE
TZID:Europe/Amsterdam
X-LIC-LOCATION:Europe/Amsterdam
BEGIN:DAYLIGHT
DTSTART:20220327T030000
TZOFFSETFROM:+0100
TZOFFSETTO:+0200
TZNAME:CEST
END:DAYLIGHT
END:VTIMEZONE
END:VCALENDAR