BEGIN:VCALENDAR
VERSION:2.0
PRODID:-//wp-events-plugin.com//7.2.2.1//EN
TZID:Europe/Amsterdam
X-WR-TIMEZONE:Europe/Amsterdam
BEGIN:VEVENT
UID:371@bmi-online.nl
DTSTART;TZID=Europe/Amsterdam:20230414T100000
DTEND;TZID=Europe/Amsterdam:20230414T163000
DTSTAMP:20230223T074720Z
URL:https://www.bmi-online.nl/events/introductie-rda-en-lrm-online-2/
SUMMARY:Introductie RDA en LRM (Online)
DESCRIPTION:2-daagse cursus over de betekenis van RDA en LRM voor de prakti
 jk van het catalogiseren en voor de praktijk van het zoeken in catalogi.\n
 RDA (Resource Description and Access) is een nieuwe metadatastandaard voor
  het beschrijven of catalogiseren van bibliotheek- en erfgoedmateriaal. RD
 A bestaat uit een verzameling data-elementen met bijbehorende richtlijnen 
 en instructies. De standaard voldoet aan internationale modellen voor link
 ed data toepassingen\, zoals LRM (Library Reference Model). (GO)\n\nLesdag
 en:\n\n\n14 april 2023\n21 april 2023\n\n\n\nMeer informatie.
CATEGORIES:Cursus,Cursussen en congressen,Webinar
END:VEVENT
BEGIN:VTIMEZONE
TZID:Europe/Amsterdam
X-LIC-LOCATION:Europe/Amsterdam
BEGIN:DAYLIGHT
DTSTART:20230326T030000
TZOFFSETFROM:+0100
TZOFFSETTO:+0200
TZNAME:CEST
END:DAYLIGHT
END:VTIMEZONE
END:VCALENDAR