BEGIN:VCALENDAR
VERSION:2.0
PRODID:-//wp-events-plugin.com//7.2.2.1//EN
TZID:Europe/Amsterdam
X-WR-TIMEZONE:Europe/Amsterdam
BEGIN:VEVENT
UID:244@bmi-online.nl
DTSTART;TZID=Europe/London:20220406T100000
DTEND;TZID=Europe/London:20220406T150000
DTSTAMP:20220121T120644Z
URL:https://www.bmi-online.nl/events/introduction-to-r-for-health-technolo
 gy-assessment-2/
SUMMARY:Introduction to R for Health Technology Assessment
DESCRIPTION:Health technology assessment (HTA) is the primary tool used by 
 healthcare decision makers when evaluating novel pharmaceuticals and other
  technologies within healthcare systems. HTAs use a variety of evidence to
  evaluate new technologies including statistical analyses and cost-effecti
 veness analysis (CEA).\n\nR is a free program designed for statistical ana
 lysis and graphical techniques. Because R is designed to display and proce
 ss complex data\, it is seen as an alternative to less efficient and less 
 powerful software such as Microsoft Excel. For these reasons\, the popular
 ity of R has increased in the last decade and is starting to be used withi
 n HTA submissions.\n\nBy the end of this full day course\, attendees will 
 be able to proficiently navigate the R program as well as import/export th
 eir own data from a variety of data sources.\n\nParticipants will learn th
 e skills required to explore their data as well as produce summary statist
 ics and create interesting graphics using reproducible R scripts. The cour
 se will also provide detailed advice on how to manipulate data in R ready 
 for use in efficient statistical analyses. We will also discuss the use of
  R in evidence synthesis and CEA with some example models covering several
  disease areas demonstrated.\n\nThe course is designed for beginners and n
 o prior R knowledge will be assumed.\n\nMeer informatie.
CATEGORIES:Cursus,Cursussen en congressen
LOCATION:Online - zie evenement voor meer informatie\, online\, online\, Ne
 derland
X-APPLE-STRUCTURED-LOCATION;VALUE=URI;X-ADDRESS=online\, online\, Nederland
 ;X-APPLE-RADIUS=100;X-TITLE=Online - zie evenement voor meer informatie:ge
 o:0,0
END:VEVENT
BEGIN:VTIMEZONE
TZID:Europe/London
X-LIC-LOCATION:Europe/London
BEGIN:DAYLIGHT
DTSTART:20220327T020000
TZOFFSETFROM:+0000
TZOFFSETTO:+0100
TZNAME:BST
END:DAYLIGHT
END:VTIMEZONE
END:VCALENDAR