BEGIN:VCALENDAR
VERSION:2.0
PRODID:-//wp-events-plugin.com//7.2.2.1//EN
TZID:Europe/Amsterdam
X-WR-TIMEZONE:Europe/Amsterdam
BEGIN:VEVENT
UID:263@bmi-online.nl
DTSTART:20220413T190000Z
DTEND:20220413T203000Z
DTSTAMP:20220203T150209Z
URL:https://www.bmi-online.nl/events/librarians-and-systematic-review-team
 s-negotiating-roles-and-recognition-online/
SUMMARY:Librarians and Systematic Review Teams: Negotiating Roles and Recog
 nition (Online)
DESCRIPTION:Negotiating roles and recognition on a review team is a challen
 ge few librarians are prepared for. This webinar will help you rise to the
  challenge and develop the communication skills essential to your career d
 evelopment and for working effectively with systematic review teams.\n\nYo
 u’ll gain strategies for communicating with teams in a variety of areas\
 , including:\n\n 	Assembling essential information\, starting with the pro
 ject requests\n 	Maximizing the value of the initial team meeting\n 	Educa
 ting review teams about your contribution\n 	Setting expectations for libr
 arian contribution\, timelines\, and recognition\n 	Communicating during t
 he project\n\nMore information.
CATEGORIES:Cursussen en congressen,Webinar
END:VEVENT
END:VCALENDAR