BEGIN:VCALENDAR
VERSION:2.0
PRODID:-//wp-events-plugin.com//7.2.2.1//EN
TZID:Europe/Amsterdam
X-WR-TIMEZONE:Europe/Amsterdam
BEGIN:VEVENT
UID:259@bmi-online.nl
DTSTART;TZID=Europe/Amsterdam:20220328T090000
DTEND;TZID=Europe/Amsterdam:20220328T120000
DTSTAMP:20220303T152746Z
URL:https://www.bmi-online.nl/events/library-carpentry-workshop-maart-apri
 l-2022/
SUMMARY:Library Carpentry workshop maart/april 2022
DESCRIPTION:Op de ochtenden van 28/29 maart en 4/5 april 2022 is er weer e
 en online Library Carpentry workshop. In deze workshop leren medewerkers
  van bibliotheken de beginselen van datavaardigheden.\n\nDe workshop wordt
  georganiseerd door de bibliotheken van UvA/HvA\, VU\, Universiteit Leiden
 \, Radboud Universiteit en Tilburg University. Bij overinschrijving hebben
  medewerkers van deze instellingen voorrang.\n\nInschrijven kan tot uiterl
 ijk 15 maart 2022 hier. De voertaal is Nederlands.\n\nWAAROM\n\nRedenen o
 m mee te doen kunnen zijn:\n\n 	vergroten van je ‘databewustzijn’\n 	b
 eter begrip van dataproblemen die onderzoekers ervaren\n 	efficiënter ver
 zamelen en verwerken van data ten behoeve van je werk.\n\nINHOUD\n\nIn de 
 workshop werken we met data in de vorm van platte tekst en tabellen. Tekst
 uele data leer je doorzoeken en manipuleren met behulp van de Unix shell. 
 Bij de analyse van tabelvormige data komt het programma OpenRefine van pas
 . Ook leer je over reguliere expressies\, een methode van patroonherkennin
 g die bij alle vormen van data nuttig is.\n\nVEREIST\n\nEr is geen voorken
 nis vereist over Unix shell\, OpenRefine of reguliere expressies. Wel word
 t enige ervaring gevraagd met een spreadsheetprogramma zoals Excel.\n\nGro
 et\,\n\nLevi Damsma (Radboud Universteit)\, Alice Doek (Universiteit van A
 msterdam)\, Kristina Hettne (Universiteit Leiden)\, Puck Wildschut (Tilbur
 g University)\, Matthijs de Zwaan (Vrije Universiteit)\n\nMeer informatie.
 \n\n&nbsp\;\n\n&nbsp\;\n\n&nbsp\;\n\n&nbsp\;
CATEGORIES:Cursussen en congressen,Workshop
END:VEVENT
BEGIN:VTIMEZONE
TZID:Europe/Amsterdam
X-LIC-LOCATION:Europe/Amsterdam
BEGIN:DAYLIGHT
DTSTART:20220327T030000
TZOFFSETFROM:+0100
TZOFFSETTO:+0200
TZNAME:CEST
END:DAYLIGHT
END:VTIMEZONE
END:VCALENDAR