BEGIN:VCALENDAR
VERSION:2.0
PRODID:-//wp-events-plugin.com//7.2.2.1//EN
TZID:Europe/Amsterdam
X-WR-TIMEZONE:Europe/Amsterdam
BEGIN:VEVENT
UID:297@bmi-online.nl
DTSTART;TZID=Europe/Amsterdam:20220523T190000
DTEND;TZID=Europe/Amsterdam:20220523T220000
DTSTAMP:20220421T154320Z
URL:https://www.bmi-online.nl/events/marc21-online-in-english-4/
SUMMARY:MARC21 (Online in English)
DESCRIPTION:2 x 3 hours online introduction course on how to work and under
 stand MARC21. (GO)\n\n\n23 mei 2022\n\n\n30 mei 2022\n\n\n\nMore informati
 on.
CATEGORIES:Cursus,Cursussen en congressen,Webinar
END:VEVENT
BEGIN:VTIMEZONE
TZID:Europe/Amsterdam
X-LIC-LOCATION:Europe/Amsterdam
BEGIN:DAYLIGHT
DTSTART:20220327T030000
TZOFFSETFROM:+0100
TZOFFSETTO:+0200
TZNAME:CEST
END:DAYLIGHT
END:VTIMEZONE
END:VCALENDAR