BEGIN:VCALENDAR
VERSION:2.0
PRODID:-//wp-events-plugin.com//7.2.2.1//EN
TZID:Europe/Amsterdam
X-WR-TIMEZONE:Europe/Amsterdam
BEGIN:VEVENT
UID:269@bmi-online.nl
DTSTART;TZID=Europe/Amsterdam:20221213T100000
DTEND;TZID=Europe/Amsterdam:20221213T163000
DTSTAMP:20220303T150312Z
URL:https://www.bmi-online.nl/events/marketing-van-informatiediensten-utre
 cht-3/
SUMMARY:Marketing van informatiediensten (Utrecht)
DESCRIPTION:Deze 4-daagse cursus leert u planmatige wijze de diensten van u
 w afdeling af te stemmen op de behoeften van uw doelgroep en deze doeltref
 fend onder de aandacht te brengen.\n\nLesdagen:\n13 december 2022\n10 janu
 ari 2023\n17 januari 2023\n24 januari 2023\n\nMeer informatie.
CATEGORIES:Cursus,Cursussen en congressen
END:VEVENT
BEGIN:VTIMEZONE
TZID:Europe/Amsterdam
X-LIC-LOCATION:Europe/Amsterdam
BEGIN:STANDARD
DTSTART:20221030T020000
TZOFFSETFROM:+0200
TZOFFSETTO:+0100
TZNAME:CET
END:STANDARD
END:VTIMEZONE
END:VCALENDAR