BEGIN:VCALENDAR
VERSION:2.0
PRODID:-//wp-events-plugin.com//7.2.2.1//EN
TZID:Europe/Amsterdam
X-WR-TIMEZONE:Europe/Amsterdam
BEGIN:VEVENT
UID:329@bmi-online.nl
DTSTART;TZID=Europe/London:20230420T133000
DTEND;TZID=Europe/London:20230420T143000
DTSTAMP:20221123T162305Z
URL:https://www.bmi-online.nl/events/mixed-methods-systematic-review-and-s
 earching-the-evidence-base-courses-2/
SUMMARY:Mixed Methods Systematic Review and Searching the Evidence Base Cou
 rses
DESCRIPTION:Mixed methods systematic reviews combine qualitative and quanti
 tative evidence to answer complex applied health and public health questio
 ns. These methods are becoming increasingly important as we seek to unders
 tand why interventions may have different results for different people in 
 different situations. This course will explore the current thinking on app
 roaches to mixed methods systematic reviews.\n\nYou can attend all six hal
 f-days\, or just the ‘Review’ course (four half-days) or the evidence 
 search course (two half-days).\nConducting a Mixed Methods Systematic Revi
 ew\nOnline course. Live sessions:\n\n 	13.30 - 14.30 (BST) 20th April 2023
  (optional introduction)\n 	13.30 - 16.00 (BST) on 21st\, 24th\, 26th &amp
 \; 28th April 2023\n\nFollowing this course (delivered in four half-day se
 ssions) participants should have a strong understanding of:\n\n 	The purpo
 se and value of mixed-methods systematic reviews\n 	Methods for synthesisi
 ng qualitative and quantitative research including explanatory sequential\
 , exploratory sequential\, and convergent synthesis methods.\n\nSearching 
 the Evidence Base Workshop\nOnline course. Live sessions:\n\n 	13.30 - 14.
 30 (BST) 2nd May 2023 (optional introduction)\n 	13.30 - 16.00 (BST) on 3r
 d &amp\; 5th May 2023\n\nThis course\, delivered over two half days\, will
  develop:\n\n 	A strong understanding of best practice search methods for 
 mixed-methods reviews\n 	Practical skills in search techniques\, resource 
 selection and managing reference records.\n\nMore information.
CATEGORIES:Cursus,Cursussen en congressen,Webinar
LOCATION:University of Leeds\, Clarendon way\, Leeds\, LS2 9NL\, England
GEO:53.8036079;-1.5554177000000208
X-APPLE-STRUCTURED-LOCATION;VALUE=URI;X-ADDRESS=Clarendon way\, Leeds\, LS2
  9NL\, England;X-APPLE-RADIUS=100;X-TITLE=University of Leeds:geo:53.80360
 79,-1.5554177000000208
END:VEVENT
BEGIN:VTIMEZONE
TZID:Europe/London
X-LIC-LOCATION:Europe/London
BEGIN:DAYLIGHT
DTSTART:20230326T020000
TZOFFSETFROM:+0000
TZOFFSETTO:+0100
TZNAME:BST
END:DAYLIGHT
END:VTIMEZONE
END:VCALENDAR