BEGIN:VCALENDAR
VERSION:2.0
PRODID:-//wp-events-plugin.com//7.2.2.1//EN
TZID:Europe/Amsterdam
X-WR-TIMEZONE:Europe/Amsterdam
BEGIN:VEVENT
UID:260@bmi-online.nl
DTSTART;TZID=Europe/London;VALUE=DATE:20220325
DTEND;TZID=Europe/London;VALUE=DATE:20220326
DTSTAMP:20220203T143457Z
URL:https://www.bmi-online.nl/events/mixed-methods-systematic-review-and-s
 earching-the-evidence-online/
SUMMARY:Mixed Methods Systematic Review and Searching the Evidence (online)
DESCRIPTION:Mixed methods systematic reviews combine qualitative and quanti
 tative evidence to answer complex applied health and public health questio
 ns. These methods are becoming increasingly important as we seek to unders
 tand why interventions may have different results for different people in 
 different situations. This course will explore the current thinking on app
 roaches to mixed methods systematic reviews.\n\nYou can attend all six hal
 f-days\, or just the ‘Review’ course (four half-days) or the evidence 
 search course (two half-days).\n\nMore information.\n\n&nbsp\;\n\n&nbsp\;
CATEGORIES:Cursus,Cursussen en congressen,Webinar
END:VEVENT
BEGIN:VTIMEZONE
TZID:Europe/London
X-LIC-LOCATION:Europe/London
BEGIN:STANDARD
DTSTART:20211031T010000
TZOFFSETFROM:+0100
TZOFFSETTO:+0000
TZNAME:GMT
END:STANDARD
END:VTIMEZONE
END:VCALENDAR