BEGIN:VCALENDAR
VERSION:2.0
PRODID:-//wp-events-plugin.com//7.2.2.1//EN
TZID:Europe/Amsterdam
X-WR-TIMEZONE:Europe/Amsterdam
BEGIN:VEVENT
UID:193@bmi-online.nl
DTSTART:20211112T090000Z
DTEND:20211112T153000Z
DTSTAMP:20211006T103337Z
URL:https://www.bmi-online.nl/events/office365-sharepoint-search-metadatab
 eheer-online/
SUMMARY:Office365 & SharePoint: search & metadatabeheer (online)
DESCRIPTION:2-daagse training over de mogelijkheden van het vindbaar maken 
 van informatie binnen SharePoint en Office 365.\n\nLesdagen:\n\n12 novembe
 r 2021\n19 november 2021\n\nMeer informatie.
CATEGORIES:Cursussen en congressen,Webinar
END:VEVENT
END:VCALENDAR