BEGIN:VCALENDAR
VERSION:2.0
PRODID:-//wp-events-plugin.com//7.2.2.1//EN
TZID:Europe/Amsterdam
X-WR-TIMEZONE:Europe/Amsterdam
BEGIN:VEVENT
UID:309@bmi-online.nl
DTSTART;TZID=America/Toronto:20220815T090000
DTEND;TZID=America/Toronto:20220816T160000
DTSTAMP:20220728T083734Z
URL:https://www.bmi-online.nl/events/online-library-carpentry-workshop-onl
 ine-2/
SUMMARY:Online Library Carpentry Workshop (online)
DESCRIPTION:Library Carpentry is made by people working in library- and in
 formation-related roles to help you:\n\n 	automate repetitive\, boring\, e
 rror-prone tasks\n 	create\, maintain and analyze sustainable and reusable
  data\n 	work effectively with IT and systems colleagues\n 	better underst
 and the use of software in research\n 	and much more...\n\nMore informatio
 n.
CATEGORIES:Cursussen en congressen,Webinar,Workshop
END:VEVENT
BEGIN:VTIMEZONE
TZID:America/Toronto
X-LIC-LOCATION:America/Toronto
BEGIN:DAYLIGHT
DTSTART:20220313T030000
TZOFFSETFROM:-0500
TZOFFSETTO:-0400
TZNAME:EDT
END:DAYLIGHT
END:VTIMEZONE
END:VCALENDAR