BEGIN:VCALENDAR
VERSION:2.0
PRODID:-//wp-events-plugin.com//7.2.2.1//EN
TZID:Europe/Amsterdam
X-WR-TIMEZONE:Europe/Amsterdam
BEGIN:VEVENT
UID:306@bmi-online.nl
DTSTART;TZID=Africa/Johannesburg:20220919T090000
DTEND;TZID=Africa/Johannesburg:20220923T130000
DTSTAMP:20220610T101737Z
URL:https://www.bmi-online.nl/events/online-library-carpentry-workshop-onl
 ine/
SUMMARY:Online Library Carpentry Workshop (online)
DESCRIPTION:Library Carpentry is made by people working in library- and in
 formation-related roles to help you:\n\n 	automate repetitive\, boring\, e
 rror-prone tasks\n 	create\, maintain and analyze sustainable and reusable
  data\n 	work effectively with IT and systems colleagues\n 	better underst
 and the use of software in research\n 	and much more...\n\nMore informatio
 n.
CATEGORIES:Cursussen en congressen,Webinar,Workshop
END:VEVENT
BEGIN:VTIMEZONE
TZID:Africa/Johannesburg
X-LIC-LOCATION:Africa/Johannesburg
BEGIN:STANDARD
DTSTART:20210919T090000
TZOFFSETFROM:+0200
TZOFFSETTO:+0200
TZNAME:SAST
END:STANDARD
END:VTIMEZONE
END:VCALENDAR