BEGIN:VCALENDAR
VERSION:2.0
PRODID:-//wp-events-plugin.com//7.2.2.1//EN
TZID:Europe/Amsterdam
X-WR-TIMEZONE:Europe/Amsterdam
BEGIN:VEVENT
UID:334@bmi-online.nl
DTSTART;TZID=Europe/Amsterdam;VALUE=DATE:20230113
DTEND;TZID=Europe/Amsterdam;VALUE=DATE:20230114
DTSTAMP:20221123T170615Z
URL:https://www.bmi-online.nl/events/opleiding-informatiespecialist-online
 -11/
SUMMARY:Opleiding Informatiespecialist (online)
DESCRIPTION:Opleiding op hbo-niveau van tien maanden waarin u de competen
 ties verkrijgt die nodig zijn om informatie op te opsporen\, toegankelijk 
 te maken\, te beheren en verwerken. (GO)\n\n30 lesdagen\, begin 13 januari
  2023.\n\nMeer informatie.
CATEGORIES:Cursussen en congressen,Opleiding
END:VEVENT
BEGIN:VTIMEZONE
TZID:Europe/Amsterdam
X-LIC-LOCATION:Europe/Amsterdam
BEGIN:STANDARD
DTSTART:20221030T020000
TZOFFSETFROM:+0200
TZOFFSETTO:+0100
TZNAME:CET
END:STANDARD
END:VTIMEZONE
END:VCALENDAR