BEGIN:VCALENDAR
VERSION:2.0
PRODID:-//wp-events-plugin.com//7.2.2.1//EN
TZID:Europe/Amsterdam
X-WR-TIMEZONE:Europe/Amsterdam
BEGIN:VEVENT
UID:336@bmi-online.nl
DTSTART;TZID=Europe/Amsterdam;VALUE=DATE:20230330
DTEND;TZID=Europe/Amsterdam;VALUE=DATE:20230331
DTSTAMP:20221123T170718Z
URL:https://www.bmi-online.nl/events/opleiding-informatiespecialist-online
 -13/
SUMMARY:Opleiding Informatiespecialist (online)
DESCRIPTION:Opleiding op hbo-niveau van tien maanden waarin u de competen
 ties verkrijgt die nodig zijn om informatie op te opsporen\, toegankelijk 
 te maken\, te beheren en verwerken. (GO)\n\n30 lesdagen\, begin 30 maart 2
 023.\n\nMeer informatie.
CATEGORIES:Cursussen en congressen,Opleiding
END:VEVENT
BEGIN:VTIMEZONE
TZID:Europe/Amsterdam
X-LIC-LOCATION:Europe/Amsterdam
BEGIN:DAYLIGHT
DTSTART:20230326T030000
TZOFFSETFROM:+0100
TZOFFSETTO:+0200
TZNAME:CEST
END:DAYLIGHT
END:VTIMEZONE
END:VCALENDAR