BEGIN:VCALENDAR
VERSION:2.0
PRODID:-//wp-events-plugin.com//7.2.2.1//EN
TZID:Europe/Amsterdam
X-WR-TIMEZONE:Europe/Amsterdam
BEGIN:VEVENT
UID:357@bmi-online.nl
DTSTART;TZID=Europe/Amsterdam:20230120T100000
DTEND;TZID=Europe/Amsterdam:20230120T163000
DTSTAMP:20230120T083020Z
URL:https://www.bmi-online.nl/events/optimaliseren-van-informatiediensten-
 online/
SUMMARY:Optimaliseren van informatiediensten (online)
DESCRIPTION:&nbsp\;\n\n5-daagse cursus over de praktische begeleiding van d
 e opzet en verbetering van informatiediensten\, van ontwerpschets tot real
 isatie\, volledig gericht op uw klanten.\n\nGoed toegankelijke systemen z
 ijn onmisbaar bij het beschikbaar stellen van informatie aan (eind)gebruik
 ers. Natuurlijk wilt u de kennisprocessen binnen uw organisatie zo goed mo
 gelijk faciliteren. Maar voor een optimale dienstverlening moeten deze pro
 cessen wel volledig zijn ingericht op de wensen en behoeften van uw gebrui
 kers. (GO)\n\nLesdagen:\n\n\n\n\n02 februari 2023\n09 februari 2023\n\n\n1
 6 februari 2023\n\n\n09 maart 2023\n\n\n16 maart 2023\n\n\n\n\n\n\n\nMeer 
 informatie.
CATEGORIES:Cursus,Cursussen en congressen
END:VEVENT
BEGIN:VTIMEZONE
TZID:Europe/Amsterdam
X-LIC-LOCATION:Europe/Amsterdam
BEGIN:STANDARD
DTSTART:20221030T020000
TZOFFSETFROM:+0200
TZOFFSETTO:+0100
TZNAME:CET
END:STANDARD
END:VTIMEZONE
END:VCALENDAR