BEGIN:VCALENDAR
VERSION:2.0
PRODID:-//wp-events-plugin.com//7.2.2.1//EN
TZID:Europe/Amsterdam
X-WR-TIMEZONE:Europe/Amsterdam
BEGIN:VEVENT
UID:299@bmi-online.nl
DTSTART;TZID=America/Chicago:20221020T130000
DTEND;TZID=America/Chicago:20221020T143000
DTSTAMP:20220520T140709Z
URL:https://www.bmi-online.nl/events/planning-for-systematic-review-succes
 s-reference-interview-protocol-development-online/
SUMMARY:Planning for Systematic Review Success: Reference Interview & Proto
 col Development (online)
DESCRIPTION:Margaret Foster &amp\; Whitney Townsend\, two nationally-recogn
 ized experts on the systematic review process\, will show you how to plan 
 for a successful review.\n\nMargaret Foster will introduce you to the syst
 ematic review reference interview. You’ll learn how to use the interview
  to manage expectations\, ensure proper librarian integration into the rev
 iew process\, educate teams on appropriate review questions and designs\, 
 assess if a team has adequate resources and is ready to do a review\, and 
 begin an initial scoping search process.\n\nWhitney Townsend will show you
  how to work with a team to develop and register a review protocol that me
 ets standards for a particular review design\, and how to use a protocol t
 o inform your search and the reporting work over the course of the project
 .\n\nMore information.
CATEGORIES:Cursussen en congressen,Webinar
END:VEVENT
BEGIN:VTIMEZONE
TZID:America/Chicago
X-LIC-LOCATION:America/Chicago
BEGIN:DAYLIGHT
DTSTART:20220313T030000
TZOFFSETFROM:-0600
TZOFFSETTO:-0500
TZNAME:CDT
END:DAYLIGHT
END:VTIMEZONE
END:VCALENDAR