BEGIN:VCALENDAR
VERSION:2.0
PRODID:-//wp-events-plugin.com//7.2.2.1//EN
TZID:Europe/Amsterdam
X-WR-TIMEZONE:Europe/Amsterdam
BEGIN:VEVENT
UID:123@bmi-online.nl
DTSTART:20220401T090000Z
DTEND:20220401T153000Z
DTSTAMP:20210531T170314Z
URL:https://www.bmi-online.nl/events/relatiebeheer-en-accountmanagement-in
 -de-informatiedienstverlening-online-4-dagen-2/
SUMMARY:Relatiebeheer en Accountmanagement in de Informatiedienstverlening 
 (online\, 4 dagen)
DESCRIPTION:4-daagse cursus waarin u leert over de rol van relatiebeheerder
 /accountmanager en over succesvol de principes van marketing toepassen.\n\
 nLesdagen:\n\n\n01 april 2022\n\n\n08 april 2022\n\n\n22 april 2022\n\n\n2
 9 april 2022\n\n\n\nMeer informatie.
CATEGORIES:Cursus,Cursussen en congressen
END:VEVENT
END:VCALENDAR