BEGIN:VCALENDAR
VERSION:2.0
PRODID:-//wp-events-plugin.com//7.2.2.1//EN
TZID:Europe/Amsterdam
X-WR-TIMEZONE:Europe/Amsterdam
BEGIN:VEVENT
UID:293@bmi-online.nl
DTSTART;TZID=Europe/London:20220427T183000
DTEND;TZID=Europe/London:20220427T194500
DTSTAMP:20220421T151759Z
URL:https://www.bmi-online.nl/events/research-observatory-doing-bibliometr
 ics-responsibly-online/
SUMMARY:Research Observatory: Doing bibliometrics responsibly (online)
DESCRIPTION:Openness of bibliometric metadata\n\nBy Ludo Waltman\n\nBiblio
 metric metadata plays a key role in supporting research assessment and res
 earch management. The most commonly used bibliometric databases are of a p
 roprietary nature\, but over the past few years\, there has been an import
 ant trend toward open alternatives to these proprietary data sources. In t
 his talk I will highlight some of the key developments\, I will reflect on
  the benefits of open bibliometric metadata\, and I will discuss future tr
 ends.\n\nThe CWTS Leiden Ranking: a responsible approach to university ran
 king\n\nBy Clara Calero Medina\n\nNowadays Universities pay considerable 
 attention to university rankings in their decision making. During this tal
 k I will provide with a general landscape of university rankings and the r
 ole the Leiden Ranking plays in this landscape. I will also reflect on the
  importance of being aware of the limitations of university rankings and t
 he caveats in their use when used them in a responsible manner.\n\nMore in
 formation.\n\n&nbsp\;\n\n&nbsp\;
CATEGORIES:Cursussen en congressen,Webinar
END:VEVENT
BEGIN:VTIMEZONE
TZID:Europe/London
X-LIC-LOCATION:Europe/London
BEGIN:DAYLIGHT
DTSTART:20220327T020000
TZOFFSETFROM:+0000
TZOFFSETTO:+0100
TZNAME:BST
END:DAYLIGHT
END:VTIMEZONE
END:VCALENDAR