BEGIN:VCALENDAR
VERSION:2.0
PRODID:-//wp-events-plugin.com//7.2.2.1//EN
TZID:Europe/Amsterdam
X-WR-TIMEZONE:Europe/Amsterdam
BEGIN:VEVENT
UID:289@bmi-online.nl
DTSTART;TZID=Europe/Amsterdam;VALUE=DATE:20220411
DTEND;TZID=Europe/Amsterdam;VALUE=DATE:20220416
DTSTAMP:20220407T093830Z
URL:https://www.bmi-online.nl/events/research4life-mooc/
SUMMARY:Research4Life MOOC
DESCRIPTION:The MOOC allows participants to study their area of interest th
 roughout a five-week period. The course covers topics such as the scholarl
 y communication landscape\, information literacy skills\, advocacy and cap
 acity development strategies. Additionally\, it provides specific informat
 ion about using the Research4Life Unified Content Portal and the disciplin
 e specific (Hinari\, AGORA\, OARE\, ARDI and GOALI) collections.\n\nPartic
 ipants of the course will be provided with a Certificate of Attendance aft
 er completing the exam at the end of the course. Those who pass the exam w
 ith a grade of at least 7.0\, will receive a Certificate of Achievement.\n
 \nDates: 11 April- 15 May 2022\n\nMore information.
CATEGORIES:BMI-cursus
END:VEVENT
BEGIN:VTIMEZONE
TZID:Europe/Amsterdam
X-LIC-LOCATION:Europe/Amsterdam
BEGIN:DAYLIGHT
DTSTART:20220327T030000
TZOFFSETFROM:+0100
TZOFFSETTO:+0200
TZNAME:CEST
END:DAYLIGHT
END:VTIMEZONE
END:VCALENDAR