BEGIN:VCALENDAR
VERSION:2.0
PRODID:-//wp-events-plugin.com//7.2.2.1//EN
TZID:Europe/Amsterdam
X-WR-TIMEZONE:Europe/Amsterdam
BEGIN:VEVENT
UID:310@bmi-online.nl
DTSTART;TZID=Europe/Amsterdam:20221123T103000
DTEND;TZID=Europe/Amsterdam:20221123T220000
DTSTAMP:20221007T074702Z
URL:https://www.bmi-online.nl/events/smart-humanity-2022-amsterdam/
SUMMARY:SMART HUMANITY 2022 - WIJ ZIJN ECHT! (Amsterdam)
DESCRIPTION:&nbsp\;\n\nKNVI organiseert jaarlijkse het Smart Humanity event
 . Een dag waarop we het vakgebied van de informatieprofessional vanuit ver
 schillende perspectieven belichten. Tegelijkertijd zoeken we naar verbindi
 ng tussen de disciplines informatiemanagement\, informatievoorziening en i
 nformatietechnologie. Net als in 2019 vormt de OBA Amsterdam het decor voo
 r deze editie. Noteer woensdag 23 november alvast in je agenda!\n\nDit jaa
 r is het thema Wij zijn echt! Een dag waarop waarheidsvinding en het zoeke
 n van de verbinding centraal staat. Bellingcat trapt de dag af met een ses
 sie over de onderzoeksjournalistiek die zij bedrijven. Het maakt daarbij o
 nder andere gebruik van online bronnen\, zoals social media en open data.
  De bezoekers gaan vervolgens uiteen in verschillende sessies die worden 
 ingevuld door de bestuurders van onze interessegroepen. In deze breakout s
 essies wordt gezioht naar wat onze leden bindt. Op de aansluitende informa
 tiemarkt presenteren de interessegroepen zichzelf. De dag sluiten we af me
 t een borrel\, een goede gelegenheid om informeel te netwerken met vakgeno
 ten. Voor degenen die dit wensen volgt aansluitend een dinercruise door de
  Amsterdamse grachten.\n\nMeer informatie en aanmelden.
CATEGORIES:Congres,Cursussen en congressen,KNVI-sessie
END:VEVENT
BEGIN:VTIMEZONE
TZID:Europe/Amsterdam
X-LIC-LOCATION:Europe/Amsterdam
BEGIN:STANDARD
DTSTART:20221030T020000
TZOFFSETFROM:+0200
TZOFFSETTO:+0100
TZNAME:CET
END:STANDARD
END:VTIMEZONE
END:VCALENDAR